BEGIN:VCALENDAR
VERSION:2.0
PRODID:-//bonasoft.pl//NONSGML Spotkanie autorskie dla dzieci z Małgorzatą Nawrocką//EN
CALSCALE:GREGORIAN
METHOD:PUBLISH
BEGIN:VEVENT
UID:20260422T201411-1980729466uid
DISTAMP:20260422T201411
DTSTART:20260520T070000Z
DTEND:20260520T083000Z
LOCATION:Pedagogiczna Biblioteka Wojewódzka im. KEN w Warszawie Filia w Sochaczewie  ul. Żeromskiego 39 A, 96-500 Sochaczew
SUMMARY:Spotkanie autorskie dla dzieci z Małgorzatą Nawrocką
DESCRIPTION:
END:VEVENT
END:VCALENDAR
