BEGIN:VCALENDAR
VERSION:2.0
PRODID:-//bonasoft.pl//NONSGML Warsztaty dla nauczycieli „Dziecko w świecie mediów – zaplanowana katastrofa czy szansa rozwoju?”//EN
CALSCALE:GREGORIAN
METHOD:PUBLISH
BEGIN:VEVENT
UID:20260422T201410-2113580500uid
DISTAMP:20260422T201410
DTSTART:20260520T083000Z
DTEND:20260520T103000Z
LOCATION:Pedagogiczna Biblioteka Wojewódzka im. KEN w Warszawie Filia w Sochaczewie ul. Żeromskiego 39 A, 96-500 Sochaczew
SUMMARY:Warsztaty dla nauczycieli „Dziecko w świecie mediów – zaplanowana katastrofa czy szansa rozwoju?”
DESCRIPTION:
END:VEVENT
END:VCALENDAR
