BEGIN:VCALENDAR
VERSION:2.0
PRODID:-//bonasoft.pl//NONSGML Spotkanie autorskie z Ewą Woydyłło „Świętowanie życia – przewodnik po codzienności”//EN
CALSCALE:GREGORIAN
METHOD:PUBLISH
BEGIN:VEVENT
UID:20260422T201518-2015359414uid
DISTAMP:20260422T201518
DTSTART:20260512T150000Z
DTEND:20260512T170000Z
LOCATION:Pedagogiczna Biblioteka Wojewódzka im. KEN w Warszawie Filia w Sochaczewie  ul. Żeromskiego 39 A, 96-500 Sochaczew
SUMMARY:Spotkanie autorskie z Ewą Woydyłło „Świętowanie życia – przewodnik po codzienności”
DESCRIPTION:
END:VEVENT
END:VCALENDAR
